BEGIN:VCALENDAR
VERSION:2.0
PRODID:-//CornerStone Television Network - ECPv6.15.20//NONSGML v1.0//EN
CALSCALE:GREGORIAN
METHOD:PUBLISH
X-ORIGINAL-URL:https://ctvn.org
X-WR-CALDESC:Events for CornerStone Television Network
REFRESH-INTERVAL;VALUE=DURATION:PT1H
X-Robots-Tag:noindex
X-PUBLISHED-TTL:PT1H
BEGIN:VTIMEZONE
TZID:America/Chicago
BEGIN:DAYLIGHT
TZOFFSETFROM:-0600
TZOFFSETTO:-0500
TZNAME:CDT
DTSTART:20220313T080000
END:DAYLIGHT
BEGIN:STANDARD
TZOFFSETFROM:-0500
TZOFFSETTO:-0600
TZNAME:CST
DTSTART:20221106T070000
END:STANDARD
BEGIN:DAYLIGHT
TZOFFSETFROM:-0600
TZOFFSETTO:-0500
TZNAME:CDT
DTSTART:20230312T080000
END:DAYLIGHT
BEGIN:STANDARD
TZOFFSETFROM:-0500
TZOFFSETTO:-0600
TZNAME:CST
DTSTART:20231105T070000
END:STANDARD
BEGIN:DAYLIGHT
TZOFFSETFROM:-0600
TZOFFSETTO:-0500
TZNAME:CDT
DTSTART:20240310T080000
END:DAYLIGHT
BEGIN:STANDARD
TZOFFSETFROM:-0500
TZOFFSETTO:-0600
TZNAME:CST
DTSTART:20241103T070000
END:STANDARD
END:VTIMEZONE
BEGIN:VEVENT
DTSTART;TZID=America/Chicago:20230128T090000
DTEND;TZID=America/Chicago:20230128T110000
DTSTAMP:20260422T085919
CREATED:20230118T190112Z
LAST-MODIFIED:20230118T190112Z
UID:12752-1674896400-1674903600@ctvn.org
SUMMARY:Men's Breakfast
DESCRIPTION:Guest Speaker Michael “The Fort” McKenry \nhttps://www.impactpittsburgh.com
URL:https://ctvn.org/event/mens-breakfast/
LOCATION:The Landing Pittsburgh\, 300 Hookstown Grade Rd\, Moon Township\, PA\, 15108\, United States
CATEGORIES:Men's Events
ATTACH;FMTTYPE=image/png:https://ctvn.org/content/uploads/2023/01/Mens.png
END:VEVENT
END:VCALENDAR